BEGIN:VCALENDAR
VERSION:2.0
PRODID:-//eventon.com NONSGML v1.0//EN
BEGIN:VEVENT
UID:69ec0c4e5c0f0
DTSTAMP:20260425T013526
DTSTART:20270831T183000Z
DTEND:20270831T193000Z
TZID:Etc/Greenwich
LOCATION:Meeting Point: Redmond Community Centre Kayani Aveue\,  Woodberry Down\,  N4 2HF
SUMMARY:Bootcamp
DESCRIPTION: Experience a military style workout & a day of fitness and fun\nhttps://activewithin.com/events/comunity-hub1/var/ri-195.l-L1
URL:https://activewithin.com/events/comunity-hub1/var/ri-195.l-L1
END:VEVENT
END:VCALENDAR