BEGIN:VCALENDAR
VERSION:2.0
PRODID:-//eventon.com NONSGML v1.0//EN
BEGIN:VEVENT
UID:69eb44ad2e426
DTSTAMP:20260424T112341
DTSTART:20270706T183000Z
DTEND:20270706T193000Z
TZID:Etc/Greenwich
LOCATION:Meeting Point: Redmond Community Centre Kayani Aveue\,  Woodberry Down\,  N4 2HF
SUMMARY:Bootcamp
DESCRIPTION: Experience a military style workout & a day of fitness and fun\nhttps://activewithin.com/events/comunity-hub1/var/ri-187.l-L1
URL:https://activewithin.com/events/comunity-hub1/var/ri-187.l-L1
END:VEVENT
END:VCALENDAR