BEGIN:VCALENDAR
VERSION:2.0
PRODID:-//eventon.com NONSGML v1.0//EN
BEGIN:VEVENT
UID:69e8418e637e7
DTSTAMP:20260422T043334
DTSTART:20270420T183000Z
DTEND:20270420T193000Z
TZID:Etc/Greenwich
LOCATION:Meeting Point: Redmond Community Centre Kayani Aveue\,  Woodberry Down\,  N4 2HF
SUMMARY:Bootcamp
DESCRIPTION: Experience a military style workout & a day of fitness and fun\nhttps://activewithin.com/events/comunity-hub1/var/ri-176.l-L1
URL:https://activewithin.com/events/comunity-hub1/var/ri-176.l-L1
END:VEVENT
END:VCALENDAR