BEGIN:VCALENDAR
VERSION:2.0
PRODID:-//eventon.com NONSGML v1.0//EN
BEGIN:VEVENT
UID:69e7d17a95ed5
DTSTAMP:20260421T203522
DTSTART:20270323T183000Z
DTEND:20270323T193000Z
TZID:Etc/Greenwich
LOCATION:Meeting Point: Redmond Community Centre Kayani Aveue\,  Woodberry Down\,  N4 2HF
SUMMARY:Bootcamp
DESCRIPTION: Experience a military style workout & a day of fitness and fun\nhttps://activewithin.com/events/comunity-hub1/var/ri-172.l-L1
URL:https://activewithin.com/events/comunity-hub1/var/ri-172.l-L1
END:VEVENT
END:VCALENDAR