BEGIN:VCALENDAR
VERSION:2.0
PRODID:-//eventon.com NONSGML v1.0//EN
BEGIN:VEVENT
UID:69e5d1e4785d2
DTSTAMP:20260420T081236
DTSTART:20261110T183000Z
DTEND:20261110T193000Z
TZID:Etc/Greenwich
LOCATION:Meeting Point: Redmond Community Centre Kayani Aveue\,  Woodberry Down\,  N4 2HF
SUMMARY:Bootcamp
DESCRIPTION: Experience a military style workout & a day of fitness and fun\nhttps://activewithin.com/events/comunity-hub1/var/ri-153.l-L1
URL:https://activewithin.com/events/comunity-hub1/var/ri-153.l-L1
END:VEVENT
END:VCALENDAR