BEGIN:VCALENDAR
VERSION:2.0
PRODID:-//eventon.com NONSGML v1.0//EN
BEGIN:VEVENT
UID:69e5b7478a5d1
DTSTAMP:20260420T061903
DTSTART:20261103T183000Z
DTEND:20261103T193000Z
TZID:Etc/Greenwich
LOCATION:Meeting Point: Redmond Community Centre Kayani Aveue\,  Woodberry Down\,  N4 2HF
SUMMARY:Bootcamp
DESCRIPTION: Experience a military style workout & a day of fitness and fun\nhttps://activewithin.com/events/comunity-hub1/var/ri-152.l-L1
URL:https://activewithin.com/events/comunity-hub1/var/ri-152.l-L1
END:VEVENT
END:VCALENDAR