BEGIN:VCALENDAR
VERSION:2.0
PRODID:-//eventon.com NONSGML v1.0//EN
BEGIN:VEVENT
UID:69e92a59aa0d2
DTSTAMP:20260422T210649
DTSTART:20280319T230000Z
DTEND:20280320T000000Z
TZID:Pacific/Midway
LOCATION:Meeting Point: Redmond Community Centre Kayani Aveue\,  Woodberry Down\,  N4 2HF
SUMMARY:Family Fit
DESCRIPTION: Family fit is an all age session that is ideally suited to help your family grow together in fitness. Our sessions are game based which makes also makes exercise fun.\nhttps://activewithin.com/events/yoga-grahame-park-2/var/ri-106.l-L1
URL:https://activewithin.com/events/yoga-grahame-park-2/var/ri-106.l-L1
END:VEVENT
END:VCALENDAR